BEGIN:VCALENDAR
VERSION:2.0
PRODID:-//ChamberMaster//Event Calendar 2.0//EN
METHOD:PUBLISH
X-PUBLISHED-TTL:P3D
REFRESH-INTERVAL:P3D
CALSCALE:GREGORIAN
BEGIN:VEVENT
DTSTART:20250401T223000Z
DTEND:20250402T000000Z
X-MICROSOFT-CDO-ALLDAYEVENT:FALSE
SUMMARY:Trivia's Back for the Spring | O'Callahans
DESCRIPTION:Trivia is back!!! Grab your teammates and turn your brain on for this upcoming 8 week trivia season. Come early to grab a seat for dinner and drinks. Friendly reminder teams of 6 or less and no phones allowed. We can't wait to test our knowledge with you!
X-ALT-DESC;FMTTYPE=text/html:<span style="font-size:18px\;"><span style="font-family:tahoma\;"><span style="color:#000000\;">Trivia is back!!! Grab your teammates and turn your brain on for this upcoming 8 week trivia season. Come early to grab a seat for dinner and drinks. Friendly reminder teams of 6 or less and no phones allowed. We can&#39\;t wait to test our knowledge with you!</span></span></span>
LOCATION:O'Callahans
UID:e.2378.25347
SEQUENCE:3
DTSTAMP:20260426T021313Z
URL:https://business.daviechamber.com/events/details/trivia-s-back-for-the-spring-o-callahans-25347
END:VEVENT

END:VCALENDAR
