BEGIN:VCALENDAR
VERSION:2.0
PRODID:-//ChamberMaster//Event Calendar 2.0//EN
METHOD:PUBLISH
X-PUBLISHED-TTL:P3D
REFRESH-INTERVAL:P3D
CALSCALE:GREGORIAN
BEGIN:VEVENT
DTSTART:20251028T210000Z
DTEND:20251028T230000Z
X-MICROSOFT-CDO-ALLDAYEVENT:FALSE
SUMMARY:Trunk or Treat | Davie Nursing & Rehabilitation Center
DESCRIPTION:Davie Nursing & Rehab will be hosting their annual Community Trunk or Treat on Tuesday\, Oct 28th from 5pm-7pm!
X-ALT-DESC;FMTTYPE=text/html:<span style="font-size:16px\;"><span style="font-family:tahoma\;"><span style="color: rgb(8\, 8\, 9)\;">Davie Nursing &amp\; Rehab will be hosting their annual Community Trunk or Treat on Tuesday\, Oct 28th from 5pm-7pm!</span></span></span>
LOCATION:Davie Nursing & Rehabilitation Center | Mocksville
UID:e.2378.28922
SEQUENCE:3
DTSTAMP:20260425T221308Z
URL:https://business.daviechamber.com/events/details/trunk-or-treat-davie-nursing-rehabilitation-center-28922
END:VEVENT

END:VCALENDAR
