BEGIN:VCALENDAR
VERSION:2.0
PRODID:-//ChamberMaster//Event Calendar 2.0//EN
METHOD:PUBLISH
X-PUBLISHED-TTL:P3D
REFRESH-INTERVAL:P3D
CALSCALE:GREGORIAN
BEGIN:VEVENT
DTSTART:20251025T210000Z
DTEND:20251025T230000Z
X-MICROSOFT-CDO-ALLDAYEVENT:FALSE
SUMMARY:Trunk or Treat | Macedonia Moravian Church
DESCRIPTION:Macedonia Moravian Church presents:\n\nTrunk or Treat Saturday October 25th\, 2025 from 5-7pm.\n\n(Rain date Sunday October 26th\, 2025 5-7pm)\n\nNo admission cost to get into this event!\n\nThemed photo area\, great for taking pictures while wearing your favorite costume.\n\nConcessions will be cash only
X-ALT-DESC;FMTTYPE=text/html:<div class="xdj266r x14z9mp xat24cr x1lziwak x1vvkbs" style="overflow-wrap: break-word\; margin-inline: 0px\; margin-bottom: 0px\; margin-top: 0px\; font-family: &quot\;Segoe UI Historic&quot\;\, &quot\;Segoe UI&quot\;\, Helvetica\, Arial\, sans-serif\; color: rgb(8\, 8\, 9)\; font-size: 15px\;"><span style="font-size:16px\;"><span style="font-family:tahoma\;">Macedonia Moravian Church presents:</span></span></div>\n\n<div class="x14z9mp xat24cr x1lziwak x1vvkbs xtlvy1s" style="overflow-wrap: break-word\; margin-top: 0.5em\; margin-inline: 0px\; margin-bottom: 0px\; font-family: &quot\;Segoe UI Historic&quot\;\, &quot\;Segoe UI&quot\;\, Helvetica\, Arial\, sans-serif\; color: rgb(8\, 8\, 9)\; font-size: 15px\;"><span style="font-size:16px\;"><span style="font-family:tahoma\;">Trunk or Treat Saturday October 25th\, 2025 from 5-7pm.<br class="html-br" />\n(Rain date Sunday October 26th\, 2025 5-7pm)</span></span></div>\n\n<div class="x14z9mp xat24cr x1lziwak x1vvkbs xtlvy1s" style="overflow-wrap: break-word\; margin-top: 0.5em\; margin-inline: 0px\; margin-bottom: 0px\; font-family: &quot\;Segoe UI Historic&quot\;\, &quot\;Segoe UI&quot\;\, Helvetica\, Arial\, sans-serif\; color: rgb(8\, 8\, 9)\; font-size: 15px\;"><span style="font-size:16px\;"><span style="font-family:tahoma\;">No admission cost to get into this event!</span></span></div>\n\n<div class="x14z9mp xat24cr x1lziwak x1vvkbs xtlvy1s" style="overflow-wrap: break-word\; margin-top: 0.5em\; margin-inline: 0px\; margin-bottom: 0px\; font-family: &quot\;Segoe UI Historic&quot\;\, &quot\;Segoe UI&quot\;\, Helvetica\, Arial\, sans-serif\; color: rgb(8\, 8\, 9)\; font-size: 15px\;"><span style="font-size:16px\;"><span style="font-family:tahoma\;">Themed photo area\, great for taking pictures while wearing your favorite costume.</span></span></div>\n\n<div class="x14z9mp xat24cr x1lziwak x1vvkbs xtlvy1s" style="overflow-wrap: break-word\; margin-top: 0.5em\; margin-inline: 0px\; margin-bottom: 0px\; font-family: &quot\;Segoe UI Historic&quot\;\, &quot\;Segoe UI&quot\;\, Helvetica\, Arial\, sans-serif\; color: rgb(8\, 8\, 9)\; font-size: 15px\;"><span style="font-size:16px\;"><span style="font-family:tahoma\;">Concessions will be cash only</span></span></div>\n
LOCATION:Macedonia Moravian Church | Advance
UID:e.2378.28954
SEQUENCE:3
DTSTAMP:20260425T221143Z
URL:https://business.daviechamber.com/events/details/trunk-or-treat-macedonia-moravian-church-28954
END:VEVENT

END:VCALENDAR
