BEGIN:VCALENDAR
VERSION:2.0
PRODID:-//ChamberMaster//Event Calendar 2.0//EN
METHOD:PUBLISH
X-PUBLISHED-TTL:P3D
REFRESH-INTERVAL:P3D
CALSCALE:GREGORIAN
BEGIN:VEVENT
DTSTART:20151121T140000Z
DTEND:20151121T170000Z
X-MICROSOFT-CDO-ALLDAYEVENT:FALSE
SUMMARY:Turkey Derby 5K
DESCRIPTION:The proceeds of each year's Turkey Derby will benefit several local programs in the area including Backpack Buddies programs throughout Davie County Schools\, a program that provides non-perishable food items to students to provide nourishment through the weekend\, Davie County GO FAR Clubs which promotes physical activity\, healthy eating\, and good character\, Meals on Wheels which provides nourishment for senior citizens\, as well as other worthy charity projects in our area.
X-ALT-DESC;FMTTYPE=text/html:The proceeds of each year&#39\;s Turkey Derby will benefit several local programs in the area including Backpack Buddies programs throughout Davie County Schools\, a program that provides non-perishable food items to students to provide nourishment through the weekend\, Davie County GO FAR Clubs which promotes physical activity\, healthy eating\, and good character\, Meals on Wheels which provides nourishment for senior citizens\, as well as other worthy charity projects in our area.
LOCATION:Bermuda Run Country Club 324 Bermuda Run Dr\, Advance
UID:e.2378.4299
SEQUENCE:3
DTSTAMP:20260423T095229Z
URL:https://business.daviechamber.com/events/details/turkey-derby-5k-11-21-2015-4299
END:VEVENT

END:VCALENDAR
