BEGIN:VCALENDAR
VERSION:2.0
PRODID:-//ChamberMaster//Event Calendar 2.0//EN
METHOD:PUBLISH
X-PUBLISHED-TTL:P3D
REFRESH-INTERVAL:P3D
CALSCALE:GREGORIAN
BEGIN:VEVENT
DTSTART;VALUE=DATE:20151117
DTEND;VALUE=DATE:20151118
TRANSP:TRANSPARENT
X-MICROSOFT-CDO-ALLDAYEVENT:TRUE
SUMMARY:United Way Day @ Subway
DESCRIPTION:Subway will be hosting a United Way Day to raise money for our local United Way. A portion of their sales for the day will go to United Way.
X-ALT-DESC;FMTTYPE=text/html:Subway will be hosting a United Way Day to raise money for our local United Way. A portion of their sales for the day will go to United Way.
LOCATION:Subway 1423-A Yadkinville Rd.\, Mocksville
UID:e.2378.4300
SEQUENCE:3
DTSTAMP:20260423T095245Z
URL:https://business.daviechamber.com/events/details/united-way-day-subway-11-17-2015-4300
END:VEVENT

END:VCALENDAR
