BEGIN:VCALENDAR
VERSION:2.0
PRODID:-//ChamberMaster//Event Calendar 2.0//EN
METHOD:PUBLISH
X-PUBLISHED-TTL:P3D
REFRESH-INTERVAL:P3D
CALSCALE:GREGORIAN
BEGIN:VEVENT
DTSTART:20150923T130000Z
DTEND:20150923T170000Z
X-MICROSOFT-CDO-ALLDAYEVENT:FALSE
SUMMARY:Venture Week
DESCRIPTION:Don't Miss Venture Week!\n\nStart a Business at Any Age!\n\n5 Days - 10 Topics - You Choose\n\nClick Here for Event Poster
X-ALT-DESC;FMTTYPE=text/html:Don&#39\;t Miss Venture Week!<br />\nStart a Business at Any Age!<br />\n5 Days - 10 Topics - You Choose<br />\n<a href="http://www.daviechamber.com/wp-content/uploads/2015/04/venture-week-ad-flyer.jpg">Click Here for Event Poster</a>
LOCATION:Davie Medical Center 329 NC 801\, Bermuda Run
UID:e.2378.3950
SEQUENCE:3
DTSTAMP:20260422T085018Z
URL:https://business.daviechamber.com/events/details/venture-week-09-23-2015-3950
END:VEVENT

END:VCALENDAR
