BEGIN:VCALENDAR
VERSION:2.0
PRODID:-//ChamberMaster//Event Calendar 2.0//EN
METHOD:PUBLISH
X-PUBLISHED-TTL:P3D
REFRESH-INTERVAL:P3D
CALSCALE:GREGORIAN
BEGIN:VEVENT
DTSTART:20250605T123000Z
DTEND:20250605T133000Z
X-MICROSOFT-CDO-ALLDAYEVENT:FALSE
SUMMARY:Veteran Connections Coffee
DESCRIPTION:Welcoming all Veterans to our Veteran Connection Coffee   Thursday\, June 5 from 8:30 am - 9:30 am. Join us and connect with other veterans and local veteran resources. Coffee and refreshments provided. No RSVP required. All veterans may attend. For more info call 336-408-9217.
X-ALT-DESC;FMTTYPE=text/html:Welcoming all Veterans to our Veteran Connection Coffee &bull\; Thursday\, June 5 from 8:30 am - 9:30 am. Join us and connect with other veterans and local veteran resources. Coffee and refreshments provided. No RSVP required. All veterans may attend. For more info call 336-408-9217.
LOCATION:Davie Senior Center
UID:e.2378.27247
SEQUENCE:3
DTSTAMP:20260425T220842Z
URL:https://business.daviechamber.com/events/details/veteran-connections-coffee-27247
END:VEVENT

END:VCALENDAR
