BEGIN:VCALENDAR
VERSION:2.0
PRODID:-//ChamberMaster//Event Calendar 2.0//EN
METHOD:PUBLISH
X-PUBLISHED-TTL:P3D
REFRESH-INTERVAL:P3D
CALSCALE:GREGORIAN
BEGIN:VEVENT
DTSTART:20160617T130000Z
DTEND:20160617T200000Z
X-MICROSOFT-CDO-ALLDAYEVENT:FALSE
SUMMARY:Victim Centered Services: A Community Solution
DESCRIPTION:Victim Centered Services: A Community Solution This conference focuses on victim centered services\, including serving victims\, building trust\, restoring hope and more. Who Should Attend? Concerned citizens\, teachers and school counselors\, faith community leaders\, advocates\, mental health professionals\, court personnel\, and law enforcement Why Should I Attend? You will gain valuable information about Davie County's response to victims of domestic and sexual violence. Certificates will be presented at the end of the day to confirm 7 hours of training. With Guest Speakers: Janice Carmichael\, Director of the Office of Victim Services in Raleigh\, NC Molly-Catherine K. Goodson\, M.A.\, J.D.\, Speaker and Writer
X-ALT-DESC;FMTTYPE=text/html:Victim Centered Services: A Community Solution This conference focuses on victim centered services\, including serving victims\, building trust\, restoring hope and more. Who Should Attend? Concerned citizens\, teachers and school counselors\, faith community leaders\, advocates\, mental health professionals\, court personnel\, and law enforcement Why Should I Attend? You will gain valuable information about Davie County&#39\;s response to victims of domestic and sexual violence. Certificates will be presented at the end of the day to confirm 7 hours of training. With Guest Speakers: Janice Carmichael\, Director of the Office of Victim Services in Raleigh\, NC Molly-Catherine K. Goodson\, M.A.\, J.D.\, Speaker and Writer
LOCATION:First Baptist Church of Mocksville 390 North Main Street Mocksville\, NC 27028
UID:e.2378.5488
SEQUENCE:3
DTSTAMP:20260421T193245Z
URL:https://business.daviechamber.com/events/details/victim-centered-services-a-community-solution-06-17-2016-5488
END:VEVENT

END:VCALENDAR
