BEGIN:VCALENDAR
VERSION:2.0
PRODID:-//ChamberMaster//Event Calendar 2.0//EN
METHOD:PUBLISH
X-PUBLISHED-TTL:P3D
REFRESH-INTERVAL:P3D
CALSCALE:GREGORIAN
BEGIN:VEVENT
DTSTART:20170623T150000Z
DTEND:20170623T180000Z
X-MICROSOFT-CDO-ALLDAYEVENT:FALSE
SUMMARY:Victory Junction Fundraiser @ PACU
DESCRIPTION:Piedmont Advantage Credit Union in Winston-Salem is hosting a Hot Dog Lunch to support Victory Junction. \n\n\n\n1 hot dog + chips + drink = $3.50\n\n2 hot dogs + chips + drink = $5.00\n\n\n\nNot familiar with Victory Junction?  Victory Junction enriches the lives of children with chronic medical conditions or serious illness by providing life changing camp experiences that are exciting\, fun and empowering\; all in a medically-sound environment at no cost to the camper or their family.  Located in Randleman\, North Carolina\, Victory Junction is spread across 84 acres\, allowing children to do what they do best - be kids\, play\, imagine\, make friends and enjoy the adventures and experiences of camp life.
X-ALT-DESC;FMTTYPE=text/html:Piedmont Advantage Credit Union in Winston-Salem is hosting a Hot Dog Lunch to support Victory Junction.&nbsp\;<br />\n<br />\n1 hot dog + chips + drink = $3.50<br />\n2 hot dogs + chips + drink = $5.00<br />\n<br />\nNot familiar with Victory Junction? &nbsp\;Victory Junction enriches the lives of children with chronic medical conditions or serious illness by providing life changing camp experiences that are exciting\, fun and empowering\; all in a medically-sound environment at no cost to the camper or their family. &nbsp\;Located in Randleman\, North Carolina\, Victory Junction is spread across 84 acres\, allowing children to do what they do best - be kids\, play\, imagine\, make friends and enjoy the adventures and experiences of camp life.
LOCATION:Piedmont Advantage Credit Union 3530 Advantage Way Winston-Salem\, NC 27103
UID:e.2378.11960
SEQUENCE:3
DTSTAMP:20260422T060255Z
URL:https://business.daviechamber.com/events/details/victory-junction-fundraiser-pacu-11960
END:VEVENT

END:VCALENDAR
