BEGIN:VCALENDAR
VERSION:2.0
PRODID:-//ChamberMaster//Event Calendar 2.0//EN
METHOD:PUBLISH
X-PUBLISHED-TTL:P3D
REFRESH-INTERVAL:P3D
CALSCALE:GREGORIAN
BEGIN:VEVENT
DTSTART:20230305T000000Z
DTEND:20230305T020000Z
X-MICROSOFT-CDO-ALLDAYEVENT:FALSE
SUMMARY:W. Kiley Smith @Food Freaks Unique Burger Co.
DESCRIPTION:Nate and W. Kiley Smith are coming back to Food Freaks to have some great food and play some tunes!
X-ALT-DESC;FMTTYPE=text/html:<span style="color: rgb(5\, 5\, 5)\; font-family: &quot\;Segoe UI Historic&quot\;\, &quot\;Segoe UI&quot\;\, Helvetica\, Arial\, sans-serif\; font-size: 15px\;">Nate and W. Kiley Smith are coming back to Food Freaks to have some great food and play some tunes!</span>
LOCATION:Food Freaks Unique Burger Co
UID:e.2378.22773
SEQUENCE:3
DTSTAMP:20260424T091941Z
URL:https://business.daviechamber.com/events/details/w-kiley-smith-food-freaks-unique-burger-co-22773
END:VEVENT

END:VCALENDAR
