BEGIN:VCALENDAR
VERSION:2.0
PRODID:-//ChamberMaster//Event Calendar 2.0//EN
METHOD:PUBLISH
X-PUBLISHED-TTL:P3D
REFRESH-INTERVAL:P3D
CALSCALE:GREGORIAN
BEGIN:VEVENT
DTSTART:20230316T200000Z
DTEND:20230316T220000Z
X-MICROSOFT-CDO-ALLDAYEVENT:FALSE
SUMMARY:Waffle Chick Food Truck
DESCRIPTION:Come hang out with the Bixby chicks\, grab food and dessert!
X-ALT-DESC;FMTTYPE=text/html:<span style="font-size:16px\;"><span style="font-family:tahoma\;">Come hang out with the Bixby chicks\, grab food and dessert!</span></span>
LOCATION:Bixby GeneralStore
UID:e.2378.22802
SEQUENCE:3
DTSTAMP:20260424T102957Z
URL:https://business.daviechamber.com/events/details/waffle-chick-food-truck-22802
END:VEVENT

END:VCALENDAR
