BEGIN:VCALENDAR
VERSION:2.0
PRODID:-//ChamberMaster//Event Calendar 2.0//EN
METHOD:PUBLISH
X-PUBLISHED-TTL:P3D
REFRESH-INTERVAL:P3D
CALSCALE:GREGORIAN
BEGIN:VEVENT
DTSTART:20250308T140000Z
DTEND:20250308T150000Z
X-MICROSOFT-CDO-ALLDAYEVENT:FALSE
SUMMARY:Walk with a Doc: Dr. Chase Bennett\, MD - Novant Health Brain & Spine Surgery
DESCRIPTION:Novant Health has partnered with Walk with a Doc\, an international non-profit organization whose mission is to inspire communities through movement and conversation. You're invited to join Novant Health healthcare providers once a month at Davie County Community Park for a FREE health talk and walk. No pre-registration is required but participants will be asked to sign a waiver.\n\nAccording to the American Heart Association\, walking as little as 30 minutes a day can provide the following benefits:\n\n Improve blood pressure and blood sugar levels\n\n Help maintain a healthy body weight and lower the risk of obesity\n\n Enhance mental well-being\n\n Reduce the risk of osteoporosis\n\nWhen: Every 2nd Saturday every month 9 am- 10 am\n\nWhere: Davie County Community Park (151 Southwood Drive\, Mocksville\, NC 27028)\n\nPark and meet at the table near the splash pad
X-ALT-DESC;FMTTYPE=text/html:<div class="xdj266r x11i5rnm xat24cr x1mh8g0r x1vvkbs" style="margin: 0px\; overflow-wrap: break-word\; font-family: &quot\;Segoe UI Historic&quot\;\, &quot\;Segoe UI&quot\;\, Helvetica\, Arial\, sans-serif\; color: rgb(8\, 8\, 9)\; font-size: 15px\;"><span style="font-size:18px\;"><span style="font-family:tahoma\;"><span style="color:#000000\;">Novant Health has partnered with Walk with a Doc\, an international non-profit organization whose mission is to inspire communities through movement and conversation. You&rsquo\;re invited to join Novant Health healthcare providers once a month at Davie County Community Park for a FREE health talk and walk. No pre-registration is required but participants will be asked to sign a waiver.</span></span></span></div>\n\n<div class="x11i5rnm xat24cr x1mh8g0r x1vvkbs xtlvy1s" style="margin: 0.5em 0px 0px\; overflow-wrap: break-word\; font-family: &quot\;Segoe UI Historic&quot\;\, &quot\;Segoe UI&quot\;\, Helvetica\, Arial\, sans-serif\; color: rgb(8\, 8\, 9)\; font-size: 15px\;"><span style="font-size:18px\;"><span style="font-family:tahoma\;"><span style="color:#000000\;">According to the American Heart Association\, walking as little as 30 minutes a day can provide the following benefits:<br class="html-br" />\n&gt\;Improve blood pressure and blood sugar levels<br class="html-br" />\n&gt\;Help maintain a healthy body weight and lower the risk of obesity<br class="html-br" />\n&gt\;Enhance mental well-being<br class="html-br" />\n&gt\;Reduce the risk of osteoporosis</span></span></span></div>\n\n<div class="x11i5rnm xat24cr x1mh8g0r x1vvkbs xtlvy1s" style="margin: 0.5em 0px 0px\; overflow-wrap: break-word\; font-family: &quot\;Segoe UI Historic&quot\;\, &quot\;Segoe UI&quot\;\, Helvetica\, Arial\, sans-serif\; color: rgb(8\, 8\, 9)\; font-size: 15px\;"><span style="font-size:18px\;"><span style="font-family:tahoma\;"><span style="color:#000000\;">When: Every 2nd Saturday every month 9 am- 10 am</span></span></span></div>\n\n<div class="x11i5rnm xat24cr x1mh8g0r x1vvkbs xtlvy1s" style="margin: 0.5em 0px 0px\; overflow-wrap: break-word\; font-family: &quot\;Segoe UI Historic&quot\;\, &quot\;Segoe UI&quot\;\, Helvetica\, Arial\, sans-serif\; color: rgb(8\, 8\, 9)\; font-size: 15px\;"><span style="font-size:18px\;"><span style="font-family:tahoma\;"><span style="color:#000000\;">Where: Davie County Community Park (151 Southwood Drive\, Mocksville\, NC 27028)<br class="html-br" />\nPark and meet at the table near the splash pad</span></span></span></div>\n
LOCATION:Davie County Community Park
UID:e.2378.25346
SEQUENCE:3
DTSTAMP:20260426T034815Z
URL:https://business.daviechamber.com/events/details/walk-with-a-doc-dr-chase-bennett-md-novant-health-brain-spine-surgery-25346
END:VEVENT

END:VCALENDAR
