BEGIN:VCALENDAR
VERSION:2.0
PRODID:-//ChamberMaster//Event Calendar 2.0//EN
METHOD:PUBLISH
X-PUBLISHED-TTL:P3D
REFRESH-INTERVAL:P3D
CALSCALE:GREGORIAN
BEGIN:VEVENT
DTSTART:20160503T153000Z
DTEND:20160503T173000Z
X-MICROSOFT-CDO-ALLDAYEVENT:FALSE
SUMMARY:Webinar: Google Apps for Small Business
DESCRIPTION:Working Lunch Webinar: Google Apps for Small Business   \n\n\n \n\n\nNow with the convenience and power of distance learning\, you can get business training online. Join us for this Webinar designed to give you the knowledge to take advantage of Google's business tools. Includes all Google apps and can help you manage your operations\, communicate and share documents\, and manage your client listing.\n\n\n\nSpeaker: Teddy Burriss
X-ALT-DESC;FMTTYPE=text/html:<div><br />\n<strong><a href="https://www.ncsbc.net/workshop.aspx?ekey=170360026">Working Lunch&nbsp\;</a></strong><a href="https://www.ncsbc.net/workshop.aspx?ekey=170360026" style="padding: 0px\; margin: 0px\;"><strong style="margin:0px\; padding:0px">Webinar: Google Apps for Small Business</strong>&nbsp\;</a>&nbsp\;&nbsp\;</div>\n\n<div>\n<div>&nbsp\;</div>\n\n<div>\n<div>Now with the convenience and power of distance learning\, you can get business training online. Join us for this Webinar designed to give you the knowledge to take advantage of Google&#39\;s business tools. Includes all Google apps and can help you manage your operations\, communicate and share documents\, and manage your client listing.</div>\n\n<div><br />\n<strong>Speaker: Teddy Burriss</strong></div>\n</div>\n\n<div>&nbsp\;</div>\n</div>\n
LOCATION:Online Webinar
UID:e.2378.4640
SEQUENCE:3
DTSTAMP:20260421T203617Z
URL:https://business.daviechamber.com/events/details/webinar-google-apps-for-small-business-05-03-2016-4640
END:VEVENT

END:VCALENDAR
