BEGIN:VCALENDAR
VERSION:2.0
PRODID:-//ChamberMaster//Event Calendar 2.0//EN
METHOD:PUBLISH
X-PUBLISHED-TTL:P3D
REFRESH-INTERVAL:P3D
CALSCALE:GREGORIAN
BEGIN:VEVENT
DTSTART:20170211T200000Z
DTEND:20170212T010000Z
X-MICROSOFT-CDO-ALLDAYEVENT:FALSE
SUMMARY:Welcoming Open House @ Scarlett's Unique Boutique
DESCRIPTION:We would like to welcome Sheri with Blue Phoenix as well as Melissa with Hootenanny Paint Studio to Scarlett's Unique Boutique and Downtown Mocksville. Please come by and meet both of them and let them tell you about their super businesses.
X-ALT-DESC;FMTTYPE=text/html:We would like to welcome Sheri with Blue Phoenix as well as Melissa with Hootenanny Paint Studio to Scarlett&#39\;s Unique Boutique and Downtown Mocksville. Please come by and meet both of them and let them tell you about their super businesses.
LOCATION:Scarlett's Unique Boutique 185 N. Main St Mocksville\, NC 27028
UID:e.2378.11299
SEQUENCE:3
DTSTAMP:20260421T103436Z
URL:https://business.daviechamber.com/events/details/welcoming-open-house-scarlett-s-unique-boutique-11299
END:VEVENT

END:VCALENDAR
