BEGIN:VCALENDAR
VERSION:2.0
PRODID:-//ChamberMaster//Event Calendar 2.0//EN
METHOD:PUBLISH
X-PUBLISHED-TTL:P3D
REFRESH-INTERVAL:P3D
CALSCALE:GREGORIAN
BEGIN:VEVENT
DTSTART:20240723T190000Z
DTEND:20240723T210000Z
X-MICROSOFT-CDO-ALLDAYEVENT:FALSE
SUMMARY:Wild Weather Theme Night | Cognition Davie
DESCRIPTION:Tuesday\, July 23rd from 3:00-5:00pm\n\nBest for 4-8 year olds\n\nJoin us for a thrilling afternoon of Wild Weather\, where children aged 4-8 will dive into the wonders of weather through exciting activities and experiments. From creating rain clouds to tornados\, kids will explore various weather phenomena hands-on. Plus\, they'll have the chance to play in the exhibit area\, making this a fun and educational evening they won't want to miss!
X-ALT-DESC;FMTTYPE=text/html:<div class="xdj266r x11i5rnm xat24cr x1mh8g0r x1vvkbs" style="margin: 0px\; overflow-wrap: break-word\; font-family: &quot\;Segoe UI Historic&quot\;\, &quot\;Segoe UI&quot\;\, Helvetica\, Arial\, sans-serif\; color: rgb(5\, 5\, 5)\; font-size: 15px\;"><span style="font-size:18px\;"><span style="font-family:tahoma\;">Tuesday\, July 23rd from 3:00-5:00pm<br class="html-br" />\nBest for 4-8 year olds</span></span></div>\n\n<div class="x11i5rnm xat24cr x1mh8g0r x1vvkbs xtlvy1s" style="margin: 0.5em 0px 0px\; overflow-wrap: break-word\; font-family: &quot\;Segoe UI Historic&quot\;\, &quot\;Segoe UI&quot\;\, Helvetica\, Arial\, sans-serif\; color: rgb(5\, 5\, 5)\; font-size: 15px\;"><span style="font-size:18px\;"><span style="font-family:tahoma\;">Join us for a thrilling afternoon of Wild Weather\, where children aged 4-8 will dive into the wonders of weather through exciting activities and experiments. From creating rain clouds to tornados\, kids will explore various weather phenomena hands-on. Plus\, they&#39\;ll have the chance to play in the exhibit area\, making this a fun and educational evening they won&#39\;t want to miss!</span></span></div>\n
LOCATION:Cognition Davie
UID:e.2378.24506
SEQUENCE:3
DTSTAMP:20260421T055328Z
URL:https://business.daviechamber.com/events/details/wild-weather-theme-night-cognition-davie-24506
END:VEVENT

END:VCALENDAR
