BEGIN:VCALENDAR
VERSION:2.0
PRODID:-//ChamberMaster//Event Calendar 2.0//EN
METHOD:PUBLISH
X-PUBLISHED-TTL:P3D
REFRESH-INTERVAL:P3D
CALSCALE:GREGORIAN
BEGIN:VEVENT
DTSTART:20170512T200000Z
DTEND:20170513T010000Z
X-MICROSOFT-CDO-ALLDAYEVENT:FALSE
SUMMARY:William R Davie Elementary School Spring Fling/Glow Run
DESCRIPTION:William R Davie is having a Spring Fling and Glow Run to raise money for the school Track. Vendors will be set up in the Gym From 4pm-7pm and the Glow Run will be on the track starting at 7pm. We will have DJ and Pizza for sale.
X-ALT-DESC;FMTTYPE=text/html:William R Davie is having a Spring Fling and Glow Run to raise money for the school Track. Vendors will be set up in the Gym From 4pm-7pm and the Glow Run will be on the track starting at 7pm. We will have DJ and Pizza for sale.
LOCATION:William R Davie School
UID:e.2378.11696
SEQUENCE:3
DTSTAMP:20260422T072357Z
URL:https://business.daviechamber.com/events/details/william-r-davie-elementary-school-spring-fling-glow-run-11696
END:VEVENT

END:VCALENDAR
