BEGIN:VCALENDAR
VERSION:2.0
PRODID:-//ChamberMaster//Event Calendar 2.0//EN
METHOD:PUBLISH
X-PUBLISHED-TTL:P3D
REFRESH-INTERVAL:P3D
CALSCALE:GREGORIAN
BEGIN:VEVENT
DTSTART:20230716T160000Z
DTEND:20230716T180000Z
X-MICROSOFT-CDO-ALLDAYEVENT:FALSE
SUMMARY:Wine Around the World
DESCRIPTION:Join us on July 16th as we take your palate across the globe in a fun culinary journey as we present Wine Around the World!\n\nIn collaboration with CLS Catering\, we have curated a unique four course menu featuring international dishes from across the globe expertly paired with our finest wines.\n\nFor this year's Wine Around the World journey\, we will be visiting Japan\, Africa\, El Salvador\, and Italy. A full menu will be posted soon. Discover new flavors and immerse yourself in each country's distinct food culture.\n\nTickets are $75 per person and include a full four course wine pairing lunch\, with an opportunity to learn about the culture and cuisine of each featured country. Seating is limited as this is a seated dining experience\, so get your tickets today!\n\nClick the "Find Tickets" button to purchase your ticket.\n\nTicket sales will end on Tuesday\, July 11th at 10am.\n\n*Ticket sales are final: no refunds or exchanges\n\n*Once purchasing a ticket\, your name will be added to our guest list- you will NOT receive a physical or virtual ticket.\n\nGrab your passport and join us for this border-breaking food and wine pairing experience!\n\n \n\n!! Note: You do not need a ticket to visit our Tasting Room this day. A ticket is only required if you wish to participate in the wine pairing lunch.\n\nHave questions? Call our Tasting Room at (336) 998-3100.
X-ALT-DESC;FMTTYPE=text/html:<div class="xdj266r x11i5rnm xat24cr x1mh8g0r x1vvkbs" style="margin: 0px\; overflow-wrap: break-word\; font-family: &quot\;Segoe UI Historic&quot\;\, &quot\;Segoe UI&quot\;\, Helvetica\, Arial\, sans-serif\; color: rgb(5\, 5\, 5)\; font-size: 15px\;"><span style="font-size:18px\;"><span style="color:#666666\;"><span style="font-family:tahoma\;">Join us on July 16th as we take your palate across the globe in a fun culinary journey as we present Wine Around the World!</span></span></span></div>\n\n<div class="x11i5rnm xat24cr x1mh8g0r x1vvkbs xtlvy1s" style="margin: 0.5em 0px 0px\; overflow-wrap: break-word\; font-family: &quot\;Segoe UI Historic&quot\;\, &quot\;Segoe UI&quot\;\, Helvetica\, Arial\, sans-serif\; color: rgb(5\, 5\, 5)\; font-size: 15px\;"><span style="font-size:18px\;"><span style="color:#666666\;"><span style="font-family:tahoma\;">In collaboration with CLS Catering\, we have curated a unique four course menu featuring international dishes from across the globe expertly paired with our finest wines.</span></span></span></div>\n\n<div class="x11i5rnm xat24cr x1mh8g0r x1vvkbs xtlvy1s" style="margin: 0.5em 0px 0px\; overflow-wrap: break-word\; font-family: &quot\;Segoe UI Historic&quot\;\, &quot\;Segoe UI&quot\;\, Helvetica\, Arial\, sans-serif\; color: rgb(5\, 5\, 5)\; font-size: 15px\;"><span style="font-size:18px\;"><span style="color:#666666\;"><span style="font-family:tahoma\;">For this year&#39\;s Wine Around the World journey\, we will be visiting Japan\, Africa\, El Salvador\, and Italy. A full menu will be posted soon. Discover new flavors and immerse yourself in each country&#39\;s distinct food culture.</span></span></span></div>\n\n<div class="x11i5rnm xat24cr x1mh8g0r x1vvkbs xtlvy1s" style="margin: 0.5em 0px 0px\; overflow-wrap: break-word\; font-family: &quot\;Segoe UI Historic&quot\;\, &quot\;Segoe UI&quot\;\, Helvetica\, Arial\, sans-serif\; color: rgb(5\, 5\, 5)\; font-size: 15px\;"><span style="font-size:18px\;"><span style="color:#666666\;"><span style="font-family:tahoma\;">Tickets are $75 per person and include a full four course wine pairing lunch\, with an opportunity to learn about the culture and cuisine of each featured country. Seating is limited as this is a seated dining experience\, so get your tickets today!</span></span></span></div>\n\n<div class="x11i5rnm xat24cr x1mh8g0r x1vvkbs xtlvy1s" style="margin: 0.5em 0px 0px\; overflow-wrap: break-word\; font-family: &quot\;Segoe UI Historic&quot\;\, &quot\;Segoe UI&quot\;\, Helvetica\, Arial\, sans-serif\; color: rgb(5\, 5\, 5)\; font-size: 15px\;"><span style="font-size:18px\;"><span style="color:#666666\;"><span style="font-family:tahoma\;">Click the &quot\;Find Tickets&quot\; button to purchase your ticket.</span></span></span></div>\n\n<div class="x11i5rnm xat24cr x1mh8g0r x1vvkbs xtlvy1s" style="margin: 0.5em 0px 0px\; overflow-wrap: break-word\; font-family: &quot\;Segoe UI Historic&quot\;\, &quot\;Segoe UI&quot\;\, Helvetica\, Arial\, sans-serif\; color: rgb(5\, 5\, 5)\; font-size: 15px\;"><span style="font-size:18px\;"><span style="color:#666666\;"><span style="font-family:tahoma\;">Ticket sales will end on Tuesday\, July 11th at 10am.<br />\n*Ticket sales are final: no refunds or exchanges<br />\n*Once purchasing a ticket\, your name will be added to our guest list- you will NOT receive a physical or virtual ticket.</span></span></span></div>\n\n<div class="x11i5rnm xat24cr x1mh8g0r x1vvkbs xtlvy1s" style="margin: 0.5em 0px 0px\; overflow-wrap: break-word\; font-family: &quot\;Segoe UI Historic&quot\;\, &quot\;Segoe UI&quot\;\, Helvetica\, Arial\, sans-serif\; color: rgb(5\, 5\, 5)\; font-size: 15px\;"><span style="font-size:18px\;"><span style="color:#666666\;"><span style="font-family:tahoma\;">Grab your passport and join us for this border-breaking food and wine pairing experience!</span></span></span></div>\n\n<div class="x11i5rnm xat24cr x1mh8g0r x1vvkbs xtlvy1s" style="margin: 0.5em 0px 0px\; overflow-wrap: break-word\; font-family: &quot\;Segoe UI Historic&quot\;\, &quot\;Segoe UI&quot\;\, Helvetica\, Arial\, sans-serif\; color: rgb(5\, 5\, 5)\; font-size: 15px\;">&nbsp\;</div>\n\n<div class="x11i5rnm xat24cr x1mh8g0r x1vvkbs xtlvy1s" style="margin: 0.5em 0px 0px\; overflow-wrap: break-word\; font-family: &quot\;Segoe UI Historic&quot\;\, &quot\;Segoe UI&quot\;\, Helvetica\, Arial\, sans-serif\; color: rgb(5\, 5\, 5)\; font-size: 15px\;"><span style="font-size:18px\;"><span style="color:#666666\;"><span style="font-family:tahoma\;">!! Note: You do not need a ticket to visit our Tasting Room this day. A ticket is only required if you wish to participate in the wine pairing lunch.</span></span></span></div>\n\n<div class="x11i5rnm xat24cr x1mh8g0r x1vvkbs xtlvy1s" style="margin: 0.5em 0px 0px\; overflow-wrap: break-word\; font-family: &quot\;Segoe UI Historic&quot\;\, &quot\;Segoe UI&quot\;\, Helvetica\, Arial\, sans-serif\; color: rgb(5\, 5\, 5)\; font-size: 15px\;"><span style="font-size:18px\;"><span style="color:#666666\;"><span style="font-family:tahoma\;">Have questions? Call our Tasting Room at (336) 998-3100.</span></span></span></div>\n
LOCATION:RayLen Vineyards & Winery
UID:e.2378.23085
SEQUENCE:3
DTSTAMP:20260425T214659Z
URL:https://business.daviechamber.com/events/details/wine-around-the-world-23085
END:VEVENT

END:VCALENDAR
