BEGIN:VCALENDAR
VERSION:2.0
PRODID:-//ChamberMaster//Event Calendar 2.0//EN
METHOD:PUBLISH
X-PUBLISHED-TTL:P3D
REFRESH-INTERVAL:P3D
CALSCALE:GREGORIAN
BEGIN:VEVENT
DTSTART:20230823T160000Z
DTEND:20230823T170000Z
X-MICROSOFT-CDO-ALLDAYEVENT:FALSE
SUMMARY:Workplace Injuries: A Team Approach
DESCRIPTION:Join Atrium Health for a Virtual Forum on August 23\, 12-1 pm.\n\n\n\nKey Learnings:\n\n\n	Improving workplace safety\n	Minimizing injuries\n	Reducing unneccessary OSHA recordables
X-ALT-DESC;FMTTYPE=text/html:<p style="margin: 0px\; padding: 0px\; color: rgb(96\, 109\, 120)\; font-family: Helvetica\, Arial\, sans-serif\; font-size: 16px\;"><span style="font-family:tahoma\;"><span style="color:#333333\;"><span style="font-size: 18px\;">Join Atrium Health for a Virtual Forum on August 23\, 12-1 pm.</span><br />\n<br />\n<span style="font-size:18px\;"><span style="font-weight: bold\;">Key Learnings:</span></span></span></span></p>\n\n<ul style="padding-right: 0px\; padding-left: 0px\; margin: 0px 0px 0px 40px\; color: rgb(96\, 109\, 120)\; font-family: Helvetica\, Arial\, sans-serif\; font-size: 16px\;">\n	<li style="padding: 0px\; margin: 0px\; font-size: 12px\; color: rgb(2\, 60\, 91)\;"><span style="font-family:tahoma\;"><span style="color:#333333\;"><span style="font-size:18px\;">Improving workplace safety</span></span></span></li>\n	<li style="padding: 0px\; margin: 0px\; font-size: 12px\; color: rgb(2\, 60\, 91)\;"><span style="font-family:tahoma\;"><span style="color:#333333\;"><span style="font-size:18px\;">Minimizing injuries</span></span></span></li>\n	<li style="padding: 0px\; margin: 0px\; font-size: 12px\; color: rgb(2\, 60\, 91)\;"><span style="font-family:tahoma\;"><span style="color:#333333\;"><span style="font-size:18px\;">Reducing unneccessary OSHA recordables</span></span></span></li>\n</ul>\n
LOCATION:Virtual Event
UID:e.2378.23128
SEQUENCE:3
DTSTAMP:20260425T201440Z
URL:https://business.daviechamber.com/events/details/workplace-injuries-a-team-approach-23128
END:VEVENT

END:VCALENDAR
