BEGIN:VCALENDAR
VERSION:2.0
PRODID:-//ChamberMaster//Event Calendar 2.0//EN
METHOD:PUBLISH
X-PUBLISHED-TTL:P3D
REFRESH-INTERVAL:P3D
CALSCALE:GREGORIAN
BEGIN:VEVENT
DTSTART:20230804T213000Z
DTEND:20230805T003000Z
X-MICROSOFT-CDO-ALLDAYEVENT:FALSE
SUMMARY:Wutyasay Food Truck
DESCRIPTION:"Good food that makes the Soul Smile"\n\nWutyasay Food Truck serves up quailty good food everytime!
X-ALT-DESC;FMTTYPE=text/html:<span style="font-size:18px\;"><span style="color:#333333\;"><span style="font-family:tahoma\;"><span style="text-align: center\;">&quot\;Good food that makes the Soul Smile&quot\;</span><br style="color: rgb(5\, 5\, 5)\; font-family: &quot\;Segoe UI Historic&quot\;\, &quot\;Segoe UI&quot\;\, Helvetica\, Arial\, sans-serif\; font-size: 15px\; text-align: center\;" />\n<span style="text-align: center\;">Wutyasay Food Truck serves up quailty good food everytime!</span></span></span></span>
LOCATION:The Station
UID:e.2378.23135
SEQUENCE:3
DTSTAMP:20260425T201839Z
URL:https://business.daviechamber.com/events/details/wutyasay-food-truck-23135
END:VEVENT

END:VCALENDAR
