BEGIN:VCALENDAR
VERSION:2.0
PRODID:-//ChamberMaster//Event Calendar 2.0//EN
METHOD:PUBLISH
X-PUBLISHED-TTL:P3D
REFRESH-INTERVAL:P3D
CALSCALE:GREGORIAN
BEGIN:VEVENT
DTSTART:20151113T170000Z
DTEND:20151113T180000Z
X-MICROSOFT-CDO-ALLDAYEVENT:FALSE
SUMMARY:Yoga
DESCRIPTION:A unique opportunity to practice yoga with Valerie Kiser\, an experienced instructor/studio owner with over 15 years of experience. Yoga mat provided. Dress Comfortably.
X-ALT-DESC;FMTTYPE=text/html:A unique opportunity to practice yoga with Valerie Kiser\, an experienced instructor/studio owner with over 15 years of experience. Yoga mat provided. Dress Comfortably.
LOCATION:Davie Wellness Center 142 Gathier Street Mocksville\, NC 27028
UID:e.2378.4290
SEQUENCE:3
DTSTAMP:20260422T055050Z
URL:https://business.daviechamber.com/events/details/yoga-11-13-2015-4290
END:VEVENT

END:VCALENDAR
