BEGIN:VCALENDAR
VERSION:2.0
PRODID:-//ChamberMaster//Event Calendar 2.0//EN
METHOD:PUBLISH
X-PUBLISHED-TTL:P3D
REFRESH-INTERVAL:P3D
CALSCALE:GREGORIAN
BEGIN:VEVENT
DTSTART:20250322T140000Z
DTEND:20250322T200000Z
X-MICROSOFT-CDO-ALLDAYEVENT:FALSE
SUMMARY:Young Entrepreneur Market
DESCRIPTION:Join us downtown to support these amazing young entrepreneurs!\n\nLive Music - Food Trucks - Vendors\n\nsponsored by Skyline National Bank
X-ALT-DESC;FMTTYPE=text/html:<span style="font-size:18px\;"><span style="font-family:tahoma\;"><span style="color:#000000\;">Join us downtown to support these amazing young entrepreneurs!<br class="html-br" style="color: rgb(8\, 8\, 9)\; font-family: &quot\;Segoe UI Historic&quot\;\, &quot\;Segoe UI&quot\;\, Helvetica\, Arial\, sans-serif\; font-size: 15px\;" />\nLive Music - Food Trucks - Vendors<br class="html-br" style="color: rgb(8\, 8\, 9)\; font-family: &quot\;Segoe UI Historic&quot\;\, &quot\;Segoe UI&quot\;\, Helvetica\, Arial\, sans-serif\; font-size: 15px\;" />\nsponsored by Skyline National Bank</span></span></span>
LOCATION:Downtown Mocksville
UID:e.2378.25312
SEQUENCE:3
DTSTAMP:20260426T034504Z
URL:https://business.daviechamber.com/events/details/young-entrepreneur-market-25312
END:VEVENT

END:VCALENDAR
