BEGIN:VCALENDAR
VERSION:2.0
PRODID:-//ChamberMaster//Event Calendar 2.0//EN
METHOD:PUBLISH
X-PUBLISHED-TTL:P3D
REFRESH-INTERVAL:P3D
CALSCALE:GREGORIAN
BEGIN:VEVENT
DTSTART:20250329T220000Z
DTEND:20250330T010000Z
X-MICROSOFT-CDO-ALLDAYEVENT:FALSE
SUMMARY:Zephyr Union Band | Tanglewood Pizza Company
DESCRIPTION:Live music at TPC by Zephyr Union Band!
X-ALT-DESC;FMTTYPE=text/html:Live music at TPC by Zephyr Union Band!
LOCATION:Tanglewood Pizza Company
UID:e.2378.25363
SEQUENCE:3
DTSTAMP:20260426T034736Z
URL:https://business.daviechamber.com/events/details/zephyr-union-band-tanglewood-pizza-company-25363
END:VEVENT

END:VCALENDAR
