BEGIN:VCALENDAR
VERSION:2.0
PRODID:-//ChamberMaster//Event Calendar 2.0//EN
METHOD:PUBLISH
X-PUBLISHED-TTL:P3D
REFRESH-INTERVAL:P3D
CALSCALE:GREGORIAN
BEGIN:VEVENT
DTSTART:20151017T190000Z
DTEND:20151018T020000Z
X-MICROSOFT-CDO-ALLDAYEVENT:FALSE
SUMMARY:Zombie Walk and Prom
DESCRIPTION:Zombie Walk & Prom\n\nCharity Event for Davie County's Milling Manor and Just Hope\n\nHosted by Beach N Tans\n\nWhere:  Parking lot of Beach N Tans\n\nWhen:  Oct 17th 2015\n\nTime:  Kids start @ 3 pm\n\nWalk starts @ 5:30 pm\n\nProm starts @ 7 pm\n\nFun/Food/Live Music and more
X-ALT-DESC;FMTTYPE=text/html:Zombie Walk &amp\; Prom<br />\nCharity Event for Davie County&#39\;s Milling Manor and Just Hope<br />\nHosted by Beach N Tans<br />\nWhere:&nbsp\; Parking lot of Beach N Tans<br />\nWhen:&nbsp\; Oct 17th 2015<br />\nTime:&nbsp\; Kids start @ 3 pm<br />\nWalk starts @ 5:30 pm<br />\nProm starts @ 7 pm<br />\nFun/Food/Live Music and more
LOCATION:Beach N Tans Parking lot 953 Salisbury Road Mocksville\, NC 27028
UID:e.2378.893
SEQUENCE:3
DTSTAMP:20260423T111728Z
URL:https://business.daviechamber.com/events/details/zombie-walk-and-prom-10-17-2015-893
END:VEVENT

END:VCALENDAR
